BEGIN:VCALENDAR
VERSION:2.0
PRODID:-//Squarespace Inc/Squarespace 6//v6//EN
BEGIN:VEVENT
UID:5e2fe35287c8e752f5e6435a@squarespace.com
DTSTAMP:20200128T235307Z
DTSTART:20200425T090000Z
DTEND:20200427T100000Z
SUMMARY:Anzac Day
GEO:-44.379928;171.190373
LOCATION:93B Poplar Street\, Timaru\, Canterbury\, 7910\, New Zealand
END:VEVENT
END:VCALENDAR
