BEGIN:VCALENDAR
VERSION:2.0
PRODID:-//Squarespace Inc/Squarespace 6//v6//EN
BEGIN:VEVENT
UID:5df158a76a66f13283cacf60@squarespace.com
DTSTAMP:20191211T210425Z
DTSTART:20191217T160000Z
DTEND:20191217T173000Z
SUMMARY:Christmas Picnic
END:VEVENT
END:VCALENDAR
