BEGIN:VCALENDAR
VERSION:2.0
PRODID:-//Squarespace Inc/Squarespace 6//v6//EN
BEGIN:VEVENT
UID:5e2fe2c7898d7b14b7528864@squarespace.com
DTSTAMP:20200128T235248Z
DTSTART:20200409T193000Z
DTEND:20200413T053000Z
SUMMARY:Easter
GEO:40.720756;-74.000761
LOCATION:93B Poplar Street\, Timaru\, Canterbury\, 7910\, New Zealand
END:VEVENT
END:VCALENDAR
