BEGIN:VCALENDAR
VERSION:2.0
PRODID:-//Squarespace Inc/Squarespace 6//v6//EN
BEGIN:VEVENT
UID:5ddc2989ff342d0aad546ecc@squarespace.com
DTSTAMP:20191211T214023Z
DTSTART:20200105T123000Z
DTEND:20200105T133000Z
SUMMARY:First day of 2020
END:VEVENT
END:VCALENDAR
