BEGIN:VCALENDAR
VERSION:2.0
PRODID:-//Squarespace Inc/Squarespace 6//v6//EN
BEGIN:VEVENT
UID:5e2fdedf39c8eb7ff9e46c23@squarespace.com
DTSTAMP:20200128T234856Z
DTSTART:20200213T183000Z
DTEND:20200214T043000Z
SUMMARY:Healthy Heart Red Dress -up Day
GEO:-44.379928;171.190373
LOCATION:93B Poplar Street\, Timaru\, Canterbury\, 7910\, New Zealand
END:VEVENT
END:VCALENDAR
