BEGIN:VCALENDAR
VERSION:2.0
PRODID:-//Squarespace Inc/Squarespace 6//v6//EN
BEGIN:VEVENT
UID:5ddc82dd880bee4473599694@squarespace.com
DTSTAMP:20191211T214015Z
DTSTART:20191219T213000Z
DTEND:20191220T073000Z
SUMMARY:Last day of 2019
END:VEVENT
END:VCALENDAR
