BEGIN:VCALENDAR
VERSION:2.0
PRODID:-//Squarespace Inc/Squarespace 6//v6//EN
BEGIN:VEVENT
UID:5e2fe0907204aa2d260a758c@squarespace.com
DTSTAMP:20200128T235043Z
DTSTART:20200227T043000Z
DTEND:20200227T053000Z
SUMMARY:Picnic Night 
GEO:-44.379928;171.190373
LOCATION:93 Poplar Street\, Timaru\, Canterbury\, 7910\, New Zealand
END:VEVENT
END:VCALENDAR
