BEGIN:VCALENDAR
VERSION:2.0
PRODID:-//Squarespace Inc/Squarespace 6//v6//EN
BEGIN:VEVENT
UID:5e2fe40975f9761f10444215@squarespace.com
DTSTAMP:20200128T235318Z
DTSTART:20200601T090000Z
DTEND:20200601T100000Z
SUMMARY:Queen's Birthday
GEO:40.720756;-74.000761
LOCATION:93B Poplar Street\, Timaru\, Canterbury\, 7910\, New Zealand
END:VEVENT
END:VCALENDAR
