BEGIN:VCALENDAR
VERSION:2.0
PRODID:-//Squarespace Inc/Squarespace 6//v6//EN
BEGIN:VEVENT
UID:5e2fe19de0d1180621bbbd5c@squarespace.com
DTSTAMP:20200128T235202Z
DTSTART:20200324T183000Z
DTEND:20200325T043000Z
SUMMARY:Teddy Bears Picnic - Plunket
GEO:-44.379928;171.190373
LOCATION:93B Poplar Street\, Timaru\, Canterbury\, 7910\, New Zealand
END:VEVENT
END:VCALENDAR
