BEGIN:VCALENDAR
VERSION:2.0
PRODID:-//Squarespace Inc/Squarespace 6//v6//EN
BEGIN:VEVENT
UID:5e2fde4645c00d0d209c3b34@squarespace.com
DTSTAMP:20200128T234749Z
DTSTART:20200205T183000Z
DTEND:20200206T043000Z
SUMMARY:Waitangi Day
GEO:-44.379928;171.190373
LOCATION:The Learning Barn\, 93B poplar st\, timaru\, New Zealand
END:VEVENT
END:VCALENDAR
